BEGIN:VCALENDAR
VERSION:2.0
PRODID:-//hacksw/handcal//NONSGML v1.0//EN
BEGIN:VEVENT
SUMMARY:Soiree fin de saison 2026 Stade de La Loge
UID:bf176f13-2d02-4f27-aa6f-8d3ed8c8e349
DTSTART:20260626T163000Z
DTEND:20260626T200000Z
LOCATION:Localisation   
CATEGORIES:Sportif
STATUS:
URL;VALUE=URI:https://athlelysvihiersois.sportsregions.fr/evenements/2026/06/26/soiree-fin-de-saison-2026-stade-de-la-loge-2435650
END:VEVENT
END:VCALENDAR
