BEGIN:VCALENDAR
VERSION:2.0
PRODID:-//hacksw/handcal//NONSGML v1.0//EN
BEGIN:VEVENT
SUMMARY:Kid Athle
UID:2378a561-29c5-44ea-b077-20c0655955f7
DTSTART:20260410T163000Z
DTEND:20260410T180000Z
LOCATION:Localisation   
CATEGORIES:Sportif
STATUS:
DESCRIPTION:<p>Bonjour a tous</p>
 
 <p> </p>
 
 <p>Soiree Kid Athle
 Stade de La Loge de 18h30 a 20H00 le 10 Avril 2026</p>
 
 <p>Eveil
 Athle et Poussins de toutes les sections du
 CAPS</p>
 
 <p>Encadrement  Anne Marie, Sandrine , Corentin et
 benevoles du Club.</p>
 
 <p>Le bureau Athlelys
 Vihiersois</p>
 
 <p> </p>
URL;VALUE=URI:https://athlelysvihiersois.sportsregions.fr/evenements/2026/04/10/kid-athle-2432411
END:VEVENT
END:VCALENDAR
