BEGIN:VCALENDAR
VERSION:2.0
PRODID:-//hacksw/handcal//NONSGML v1.0//EN
BEGIN:VEVENT
SUMMARY:39 e Semi marathon du massif forestier de  Nuaille 2026 ( 49)
UID:89bf91fa-1c41-4ee5-8e43-b1a209f5e770
DTSTART:20260329T063000Z
DTEND:20260329T110000Z
LOCATION:Localisation   
CATEGORIES:Sportif
STATUS:
DESCRIPTION:<p>Semi marathon de Nuaille 21,100 km depart
 10H00</p>
 
 <p>Course Nature 8,200 km depart 9H50</p>
 
 <p>Courses
 enfants</p>
 
 <p> </p>
URL;VALUE=URI:https://athlelysvihiersois.sportsregions.fr/evenements/2026/03/29/39-e-semi-marathon-du-massif-forestier-de-nuaille-2026-49-2433611
END:VEVENT
END:VCALENDAR
